BEGIN:VCALENDAR
VERSION:2.0
PRODID:-//Quinn’s Live LLC - ECPv6.15.20//NONSGML v1.0//EN
CALSCALE:GREGORIAN
METHOD:PUBLISH
X-ORIGINAL-URL:https://quinns.live
X-WR-CALDESC:Events for Quinn’s Live LLC
REFRESH-INTERVAL;VALUE=DURATION:PT1H
X-Robots-Tag:noindex
X-PUBLISHED-TTL:PT1H
BEGIN:VTIMEZONE
TZID:America/New_York
BEGIN:DAYLIGHT
TZOFFSETFROM:-0500
TZOFFSETTO:-0400
TZNAME:EDT
DTSTART:20240310T070000
END:DAYLIGHT
BEGIN:STANDARD
TZOFFSETFROM:-0400
TZOFFSETTO:-0500
TZNAME:EST
DTSTART:20241103T060000
END:STANDARD
BEGIN:DAYLIGHT
TZOFFSETFROM:-0500
TZOFFSETTO:-0400
TZNAME:EDT
DTSTART:20250309T070000
END:DAYLIGHT
BEGIN:STANDARD
TZOFFSETFROM:-0400
TZOFFSETTO:-0500
TZNAME:EST
DTSTART:20251102T060000
END:STANDARD
BEGIN:DAYLIGHT
TZOFFSETFROM:-0500
TZOFFSETTO:-0400
TZNAME:EDT
DTSTART:20260308T070000
END:DAYLIGHT
BEGIN:STANDARD
TZOFFSETFROM:-0400
TZOFFSETTO:-0500
TZNAME:EST
DTSTART:20261101T060000
END:STANDARD
END:VTIMEZONE
BEGIN:VTIMEZONE
TZID:UTC
BEGIN:STANDARD
TZOFFSETFROM:+0000
TZOFFSETTO:+0000
TZNAME:UTC
DTSTART:20240101T000000
END:STANDARD
END:VTIMEZONE
BEGIN:VEVENT
DTSTART;TZID=America/New_York:20251001T190000
DTEND;TZID=America/New_York:20251001T220000
DTSTAMP:20260422T082601
CREATED:20250906T165939Z
LAST-MODIFIED:20250906T165939Z
UID:2331-1759345200-1759356000@quinns.live
SUMMARY:Mitch Patti
DESCRIPTION:Music instructor by day\, blues and rock and roll god by night\, Mitch Patti is the personification of “cool” when he owns the stage at Quinns. Check out his original work on Amazon Music\, iTunes\, or here on Sound Cloud.
URL:https://quinns.live/event/mitch-patti-18/
LOCATION:MIckey Quinns Live Music Hall and Irish Pub\, 13071 Park Blvd N.\, Seminole\, FL\, 33776\, United States
CATEGORIES:Homepage Featured Event
ORGANIZER;CN="Quinn's":MAILTO:info@quinns.live
END:VEVENT
BEGIN:VEVENT
DTSTART;TZID=UTC:20251004T200000
DTEND;TZID=UTC:20251004T230000
DTSTAMP:20260422T082601
CREATED:20250906T174141Z
LAST-MODIFIED:20250906T174141Z
UID:2341-1759608000-1759618800@quinns.live
SUMMARY:John Robert Egan
DESCRIPTION:J.R. is a singer songwriter from sunny St Pete Florida.  Originally from Illinois\, J.R. traveled to Florida aboard a boat with his wife and two children.  Escaping the midwest cold and grey\, they voyaged down the Mississippi\, across the Gulf of Mexico\, and through the Bahamas\, to eventually make their new home in St Petersburg.  The 2 year journey was the inspiration for J.R.’s Debut Ep “Devil On My Back.” Check out his website here to listen to and download his music – but there’s nothing like seeing him live – on the stage at Quinns…
URL:https://quinns.live/event/john-robert-egan-29/
LOCATION:MIckey Quinns Live Music Hall and Irish Pub\, 13071 Park Blvd N.\, Seminole\, FL\, 33776\, United States
CATEGORIES:Homepage Featured Event
ATTACH;FMTTYPE=image/jpeg:https://quinns.live/wp-content/uploads/2021/11/John-Robert-Egan-2.jpg
ORGANIZER;CN="Quinn's":MAILTO:info@quinns.live
END:VEVENT
BEGIN:VEVENT
DTSTART;TZID=UTC:20251007T190000
DTEND;TZID=UTC:20251007T220000
DTSTAMP:20260422T082601
CREATED:20250607T015014Z
LAST-MODIFIED:20250607T015116Z
UID:2161-1759863600-1759874400@quinns.live
SUMMARY:Open Mic Hosted by Paper & Strings
DESCRIPTION:The incredibly talented Paper & Strings hosting Open Mike night. BYOG. You don’t have to be a musician to hang out with us\, just come out to support local live music! Great night to see artists trying out their latest songs. No cover.
URL:https://quinns.live/event/open-mic-hosted-by-paper-strings-48/
LOCATION:MIckey Quinns Live Music Hall and Irish Pub\, 13071 Park Blvd N.\, Seminole\, FL\, 33776\, United States
CATEGORIES:Homepage Featured Event
ATTACH;FMTTYPE=image/png:https://quinns.live/wp-content/uploads/2022/04/Open-Mic-PS-1.png
END:VEVENT
BEGIN:VEVENT
DTSTART;TZID=UTC:20251009T180000
DTEND;TZID=UTC:20251009T210000
DTSTAMP:20260422T082601
CREATED:20250907T021339Z
LAST-MODIFIED:20250907T021339Z
UID:2382-1760032800-1760043600@quinns.live
SUMMARY:Izzy Bradburn
DESCRIPTION:Izzy Bradburn is a singer\, songwriter\, guitarist\, producer. “I aim to write emotional music that addresses the world we live in and how it makes us all feel.”
URL:https://quinns.live/event/izzy-bradburn-11/
LOCATION:MIckey Quinns Live Music Hall and Irish Pub\, 13071 Park Blvd N.\, Seminole\, FL\, 33776\, United States
CATEGORIES:Homepage Featured Event
ATTACH;FMTTYPE=image/jpeg:https://quinns.live/wp-content/uploads/2022/07/Izzy-Bradburn-2.jpg
ORGANIZER;CN="Quinn's":MAILTO:info@quinns.live
END:VEVENT
BEGIN:VEVENT
DTSTART;TZID=UTC:20251014T190000
DTEND;TZID=UTC:20251014T220000
DTSTAMP:20260422T082601
CREATED:20250607T015428Z
LAST-MODIFIED:20250607T015428Z
UID:2167-1760468400-1760479200@quinns.live
SUMMARY:Open Mic Hosted by Paper & Strings
DESCRIPTION:The incredibly talented Paper & Strings hosting Open Mike night. BYOG. You don’t have to be a musician to hang out with us\, just come out to support local live music! Great night to see artists trying out their latest songs. No cover.
URL:https://quinns.live/event/open-mic-hosted-by-paper-strings-54/
LOCATION:MIckey Quinns Live Music Hall and Irish Pub\, 13071 Park Blvd N.\, Seminole\, FL\, 33776\, United States
CATEGORIES:Homepage Featured Event
ATTACH;FMTTYPE=image/png:https://quinns.live/wp-content/uploads/2022/04/Open-Mic-PS-2.png
END:VEVENT
BEGIN:VEVENT
DTSTART;TZID=UTC:20251021T190000
DTEND;TZID=UTC:20251021T220000
DTSTAMP:20260422T082602
CREATED:20250607T015738Z
LAST-MODIFIED:20250607T015738Z
UID:2173-1761073200-1761084000@quinns.live
SUMMARY:Open Mic Hosted by Paper & Strings
DESCRIPTION:The incredibly talented Paper & Strings hosting Open Mike night. BYOG. You don’t have to be a musician to hang out with us\, just come out to support local live music! Great night to see artists trying out their latest songs. No cover.
URL:https://quinns.live/event/open-mic-hosted-by-paper-strings-60/
LOCATION:MIckey Quinns Live Music Hall and Irish Pub\, 13071 Park Blvd N.\, Seminole\, FL\, 33776\, United States
CATEGORIES:Homepage Featured Event
ATTACH;FMTTYPE=image/png:https://quinns.live/wp-content/uploads/2023/02/Open-Mic-PS-3.png
END:VEVENT
BEGIN:VEVENT
DTSTART;TZID=America/New_York:20251022T190000
DTEND;TZID=America/New_York:20251022T220000
DTSTAMP:20260422T082602
CREATED:20250907T023351Z
LAST-MODIFIED:20250907T023351Z
UID:2390-1761159600-1761170400@quinns.live
SUMMARY:Matt Joustra
DESCRIPTION:Matt Joustra LIVE in the Music Hall at Quinns!!!
URL:https://quinns.live/event/matt-joustra-3/
LOCATION:MIckey Quinns Live Music Hall and Irish Pub\, 13071 Park Blvd N.\, Seminole\, FL\, 33776\, United States
CATEGORIES:Homepage Featured Event
ATTACH;FMTTYPE=image/png:https://quinns.live/wp-content/uploads/2025/06/Screenshot-2025-06-08-at-12.23.53 PM.png
ORGANIZER;CN="Quinn's":MAILTO:info@quinns.live
END:VEVENT
BEGIN:VEVENT
DTSTART;TZID=UTC:20251028T190000
DTEND;TZID=UTC:20251028T220000
DTSTAMP:20260422T082602
CREATED:20250607T020159Z
LAST-MODIFIED:20250607T020159Z
UID:2180-1761678000-1761688800@quinns.live
SUMMARY:Open Mic Hosted by Paper & Strings
DESCRIPTION:The incredibly talented Paper & Strings hosting Open Mike night. BYOG. You don’t have to be a musician to hang out with us\, just come out to support local live music! Great night to see artists trying out their latest songs. No cover.
URL:https://quinns.live/event/open-mic-hosted-by-paper-strings-66/
LOCATION:MIckey Quinns Live Music Hall and Irish Pub\, 13071 Park Blvd N.\, Seminole\, FL\, 33776\, United States
CATEGORIES:Homepage Featured Event
ATTACH;FMTTYPE=image/png:https://quinns.live/wp-content/uploads/2023/02/Open-Mic-PS-4.png
END:VEVENT
BEGIN:VEVENT
DTSTART;VALUE=DATE:20251031
DTEND;VALUE=DATE:20251101
DTSTAMP:20260422T082602
CREATED:20250907T022740Z
LAST-MODIFIED:20250907T023257Z
UID:2388-1761868800-1761955199@quinns.live
SUMMARY:Party at QUINN’S for Halloween
DESCRIPTION:Costume contest with cash prizes! A spook-tacular musical lineup with Doc and Sherry\, an absolutely KILLER special menu\, specials for the ladies in costume\, and plenty of “boos” will be served!!! After all the little gremlins get their candy\, and before the banshees come to collect their due\, come find all your friends again here at Quinns!!!
URL:https://quinns.live/event/party-at-quinns-for-halloween-2/
LOCATION:MIckey Quinns Live Music Hall and Irish Pub\, 13071 Park Blvd N.\, Seminole\, FL\, 33776\, United States
CATEGORIES:Homepage Featured Event
ATTACH;FMTTYPE=image/png:https://quinns.live/wp-content/uploads/2025/09/Halloween-2025-scaled.png
ORGANIZER;CN="Quinn's":MAILTO:info@quinns.live
END:VEVENT
END:VCALENDAR