BEGIN:VCALENDAR
VERSION:2.0
PRODID:-//Quinn’s Live LLC - ECPv6.15.20//NONSGML v1.0//EN
CALSCALE:GREGORIAN
METHOD:PUBLISH
X-WR-CALNAME:Quinn’s Live LLC
X-ORIGINAL-URL:https://quinns.live
X-WR-CALDESC:Events for Quinn’s Live LLC
REFRESH-INTERVAL;VALUE=DURATION:PT1H
X-Robots-Tag:noindex
X-PUBLISHED-TTL:PT1H
BEGIN:VTIMEZONE
TZID:UTC
BEGIN:STANDARD
TZOFFSETFROM:+0000
TZOFFSETTO:+0000
TZNAME:UTC
DTSTART:20250101T000000
END:STANDARD
END:VTIMEZONE
BEGIN:VEVENT
DTSTART;TZID=UTC:20260422T190000
DTEND;TZID=UTC:20260422T220000
DTSTAMP:20260424T071416
CREATED:20260419T220551Z
LAST-MODIFIED:20260419T220551Z
UID:2554-1776884400-1776895200@quinns.live
SUMMARY:Jon Mitchem
DESCRIPTION:Jon Mitchem – an Americana\,County Singer/Songwriter from Alexandria Virginia – is LIVE at Mickey Quinn’s Music Hall & Irish Pub. Check him out on Spotify here.  \n 
URL:https://quinns.live/event/jon-mitchem/
LOCATION:MIckey Quinns Live Music Hall and Irish Pub\, 13071 Park Blvd N.\, Seminole\, FL\, 33776\, United States
CATEGORIES:Homepage Featured Event
ATTACH;FMTTYPE=image/png:https://quinns.live/wp-content/uploads/2025/09/Jon-Mitchem-2.png
ORGANIZER;CN="Quinn's":MAILTO:info@quinns.live
END:VEVENT
END:VCALENDAR