BEGIN:VCALENDAR
VERSION:2.0
PRODID:-//Quinn’s Live LLC - ECPv6.15.20//NONSGML v1.0//EN
CALSCALE:GREGORIAN
METHOD:PUBLISH
X-ORIGINAL-URL:https://quinns.live
X-WR-CALDESC:Events for Quinn’s Live LLC
REFRESH-INTERVAL;VALUE=DURATION:PT1H
X-Robots-Tag:noindex
X-PUBLISHED-TTL:PT1H
BEGIN:VTIMEZONE
TZID:America/New_York
BEGIN:DAYLIGHT
TZOFFSETFROM:-0500
TZOFFSETTO:-0400
TZNAME:EDT
DTSTART:20240310T070000
END:DAYLIGHT
BEGIN:STANDARD
TZOFFSETFROM:-0400
TZOFFSETTO:-0500
TZNAME:EST
DTSTART:20241103T060000
END:STANDARD
BEGIN:DAYLIGHT
TZOFFSETFROM:-0500
TZOFFSETTO:-0400
TZNAME:EDT
DTSTART:20250309T070000
END:DAYLIGHT
BEGIN:STANDARD
TZOFFSETFROM:-0400
TZOFFSETTO:-0500
TZNAME:EST
DTSTART:20251102T060000
END:STANDARD
BEGIN:DAYLIGHT
TZOFFSETFROM:-0500
TZOFFSETTO:-0400
TZNAME:EDT
DTSTART:20260308T070000
END:DAYLIGHT
BEGIN:STANDARD
TZOFFSETFROM:-0400
TZOFFSETTO:-0500
TZNAME:EST
DTSTART:20261101T060000
END:STANDARD
END:VTIMEZONE
BEGIN:VEVENT
DTSTART;TZID=America/New_York:20251211T200000
DTEND;TZID=America/New_York:20251211T230000
DTSTAMP:20260424T115241
CREATED:20250907T010821Z
LAST-MODIFIED:20250907T011646Z
UID:2368-1765483200-1765494000@quinns.live
SUMMARY:No Live Music or Karaoke Tonight - Bucs Game Showing Everywhere!!!!
DESCRIPTION:No Live Music or Karaoke Tonight – Bucs Game Showing Everywhere!!!!
URL:https://quinns.live/event/no-live-music-or-karaoke-tonight-bucs-game-showing-everywhere/
LOCATION:MIckey Quinns Live Music Hall and Irish Pub\, 13071 Park Blvd N.\, Seminole\, FL\, 33776\, United States
ATTACH;FMTTYPE=image/png:https://quinns.live/wp-content/uploads/2025/09/251211-Calendar-Square-Thu-scaled.png
ORGANIZER;CN="Quinn's":MAILTO:info@quinns.live
END:VEVENT
END:VCALENDAR