BEGIN:VCALENDAR
VERSION:2.0
PRODID:-//Quinn’s Live LLC - ECPv6.15.20//NONSGML v1.0//EN
CALSCALE:GREGORIAN
METHOD:PUBLISH
X-WR-CALNAME:Quinn’s Live LLC
X-ORIGINAL-URL:https://quinns.live
X-WR-CALDESC:Events for Quinn’s Live LLC
REFRESH-INTERVAL;VALUE=DURATION:PT1H
X-Robots-Tag:noindex
X-PUBLISHED-TTL:PT1H
BEGIN:VTIMEZONE
TZID:UTC
BEGIN:STANDARD
TZOFFSETFROM:+0000
TZOFFSETTO:+0000
TZNAME:UTC
DTSTART:20230101T000000
END:STANDARD
END:VTIMEZONE
BEGIN:VEVENT
DTSTART;TZID=UTC:20241115T200000
DTEND;TZID=UTC:20241115T230000
DTSTAMP:20260425T081316
CREATED:20240903T020557Z
LAST-MODIFIED:20240903T020557Z
UID:1596-1731700800-1731711600@quinns.live
SUMMARY:James Galione
DESCRIPTION:James Galione is a Lyricist/Songwriter/Composer from West Paterson\, New Jersey\, who found his home in Clearwater\, Florida. His original compositions are Blues\, Classic Rock\, Country\, Folk\, Tribal\, and Classical. His vocals have a sound somewhere between Joe Cocker\, Tom Waits and Jim Morrison\, but we’ve heard him light the room on fire anywhere from John Mellencamp to Jon Bon Jovi with the crowd on its feet for all of it. James is an artist you don’t want to miss. You can find his music on iTunes\, Amazon\, or right here on SoundCloud. 
URL:https://quinns.live/event/james-galione-9/
LOCATION:MIckey Quinns Live Music Hall and Irish Pub\, 13071 Park Blvd N.\, Seminole\, FL\, 33776\, United States
CATEGORIES:Homepage Featured Event
ATTACH;FMTTYPE=image/heic:https://quinns.live/wp-content/uploads/2024/09/IMG_9459.heic
ORGANIZER;CN="Quinn's":MAILTO:info@quinns.live
END:VEVENT
END:VCALENDAR