BEGIN:VCALENDAR
VERSION:2.0
PRODID:-//Quinn’s Live LLC - ECPv6.15.20//NONSGML v1.0//EN
CALSCALE:GREGORIAN
METHOD:PUBLISH
X-WR-CALNAME:Quinn’s Live LLC
X-ORIGINAL-URL:https://quinns.live
X-WR-CALDESC:Events for Quinn’s Live LLC
REFRESH-INTERVAL;VALUE=DURATION:PT1H
X-Robots-Tag:noindex
X-PUBLISHED-TTL:PT1H
BEGIN:VTIMEZONE
TZID:UTC
BEGIN:STANDARD
TZOFFSETFROM:+0000
TZOFFSETTO:+0000
TZNAME:UTC
DTSTART:20230101T000000
END:STANDARD
END:VTIMEZONE
BEGIN:VEVENT
DTSTART;VALUE=DATE:20241031
DTEND;VALUE=DATE:20241101
DTSTAMP:20260422T084903
CREATED:20211103T171409Z
LAST-MODIFIED:20240904T001830Z
UID:129-1730332800-1730419199@quinns.live
SUMMARY:Party at QUINN’S for Halloween
DESCRIPTION:A spook-tacular DJ\, an absolutely KILLER special menu\, specials for the ladies in costume\, and plenty of “boos” will be served!!! After all the little gremlins get their candy\, and before the banshees come to collect their due\, come find all your friends again here at Quinns!!!
URL:https://quinns.live/event/party-at-quinns-for-halloween/
LOCATION:FL
CATEGORIES:Homepage Featured Event
ATTACH;FMTTYPE=image/png:https://quinns.live/wp-content/uploads/2021/11/Halloween-2024.png
ORGANIZER;CN="Quinn's":MAILTO:info@quinns.live
END:VEVENT
END:VCALENDAR