BEGIN:VCALENDAR
VERSION:2.0
PRODID:-//Quinn’s Live LLC - ECPv6.15.20//NONSGML v1.0//EN
CALSCALE:GREGORIAN
METHOD:PUBLISH
X-WR-CALNAME:Quinn’s Live LLC
X-ORIGINAL-URL:https://quinns.live
X-WR-CALDESC:Events for Quinn’s Live LLC
REFRESH-INTERVAL;VALUE=DURATION:PT1H
X-Robots-Tag:noindex
X-PUBLISHED-TTL:PT1H
BEGIN:VTIMEZONE
TZID:America/New_York
BEGIN:DAYLIGHT
TZOFFSETFROM:-0500
TZOFFSETTO:-0400
TZNAME:EDT
DTSTART:20230312T070000
END:DAYLIGHT
BEGIN:STANDARD
TZOFFSETFROM:-0400
TZOFFSETTO:-0500
TZNAME:EST
DTSTART:20231105T060000
END:STANDARD
BEGIN:DAYLIGHT
TZOFFSETFROM:-0500
TZOFFSETTO:-0400
TZNAME:EDT
DTSTART:20240310T070000
END:DAYLIGHT
BEGIN:STANDARD
TZOFFSETFROM:-0400
TZOFFSETTO:-0500
TZNAME:EST
DTSTART:20241103T060000
END:STANDARD
BEGIN:DAYLIGHT
TZOFFSETFROM:-0500
TZOFFSETTO:-0400
TZNAME:EDT
DTSTART:20250309T070000
END:DAYLIGHT
BEGIN:STANDARD
TZOFFSETFROM:-0400
TZOFFSETTO:-0500
TZNAME:EST
DTSTART:20251102T060000
END:STANDARD
END:VTIMEZONE
BEGIN:VEVENT
DTSTART;TZID=America/New_York:20240918T190000
DTEND;TZID=America/New_York:20240918T220000
DTSTAMP:20260421T072128
CREATED:20240903T233131Z
LAST-MODIFIED:20240903T233131Z
UID:1668-1726686000-1726696800@quinns.live
SUMMARY:Emma G
DESCRIPTION:Emma G LIVE in the Music Hall at Quinns!!!
URL:https://quinns.live/event/emma-g/
LOCATION:FL
CATEGORIES:Homepage Featured Event
ATTACH;FMTTYPE=image/jpeg:https://quinns.live/wp-content/uploads/2024/09/440562224_351194847937851_6944635412417805705_n.jpg
ORGANIZER;CN="Quinn's":MAILTO:info@quinns.live
END:VEVENT
END:VCALENDAR